Package: KinSwingR Version: 1.29.0 Command: /home/biocbuild/bbs-3.23-bioc/R/bin/R CMD check --install=check:KinSwingR.install-out.txt --library=/home/biocbuild/bbs-3.23-bioc/R/site-library --timings KinSwingR_1.29.0.tar.gz StartedAt: 2025-11-08 00:48:40 -0500 (Sat, 08 Nov 2025) EndedAt: 2025-11-08 00:49:36 -0500 (Sat, 08 Nov 2025) EllapsedTime: 56.1 seconds RetCode: 0 Status: OK CheckDir: KinSwingR.Rcheck Warnings: 0