Package: KEGGlincs Version: 1.35.0 Command: /home/biocbuild/bbs-3.22-bioc/R/bin/R CMD INSTALL KEGGlincs StartedAt: 2025-10-13 15:59:26 -0400 (Mon, 13 Oct 2025) EndedAt: 2025-10-13 15:59:42 -0400 (Mon, 13 Oct 2025) EllapsedTime: 16.5 seconds RetCode: 0 Status: OK