Package: KEGGgraph Version: 1.69.0 Command: /home/biocbuild/R/R/bin/R CMD INSTALL KEGGgraph StartedAt: 2025-10-23 20:33:43 -0000 (Thu, 23 Oct 2025) EndedAt: 2025-10-23 20:33:51 -0000 (Thu, 23 Oct 2025) EllapsedTime: 8.4 seconds RetCode: 0 Status: OK