Package: KEGGgraph Version: 1.71.0 Command: /home/biocbuild/bbs-3.23-bioc/R/bin/R CMD INSTALL KEGGgraph StartedAt: 2025-11-07 15:15:13 -0500 (Fri, 07 Nov 2025) EndedAt: 2025-11-07 15:15:20 -0500 (Fri, 07 Nov 2025) EllapsedTime: 6.7 seconds RetCode: 0 Status: OK