Package: KEGGgraph Version: 1.69.0 Command: /Library/Frameworks/R.framework/Resources/bin/R CMD INSTALL KEGGgraph StartedAt: 2025-10-10 15:31:55 -0400 (Fri, 10 Oct 2025) EndedAt: 2025-10-10 15:32:07 -0400 (Fri, 10 Oct 2025) EllapsedTime: 12.4 seconds RetCode: 0 Status: OK