Package: KEGGgraph Version: 1.69.0 Command: /Library/Frameworks/R.framework/Resources/bin/R CMD build --keep-empty-dirs --no-resave-data KEGGgraph StartedAt: 2025-10-10 17:44:12 -0400 (Fri, 10 Oct 2025) EndedAt: 2025-10-10 17:45:15 -0400 (Fri, 10 Oct 2025) EllapsedTime: 63.1 seconds RetCode: 0 Status: OK PackageFile: KEGGgraph_1.69.0.tar.gz PackageFileSize: 1.314 MiB