Package: KEGGgraph Version: 1.69.0 Command: rm -rf KEGGgraph.buildbin-libdir && mkdir KEGGgraph.buildbin-libdir && /Users/biocbuild/BBS/utils/build-universal.sh KEGGgraph_1.69.0.tar.gz /Library/Frameworks/R.framework/Resources/bin/R KEGGgraph.buildbin-libdir StartedAt: 2025-10-11 02:36:10 -0400 (Sat, 11 Oct 2025) EndedAt: 2025-10-11 02:36:22 -0400 (Sat, 11 Oct 2025) EllapsedTime: 12.5 seconds RetCode: 0 Status: OK PackageFile: KEGGgraph_1.69.0.tgz PackageFileSize: 1.624 MiB