Package: KEGGgraph Version: 1.71.0 Maintainer: Jitao David Zhang MaintainerEmail: jitao_david.zhang at roche.com git_url: https://git.bioconductor.org/packages/KEGGgraph git_branch: devel git_last_commit: 09a8170 git_last_commit_date: 2025-10-29 10:02:08 -0400 (Wed, 29 Oct 2025)