Package: KEGGREST Version: 1.51.0 Command: /home/biocbuild/bbs-3.23-bioc/R/bin/R CMD INSTALL KEGGREST StartedAt: 2025-11-05 15:31:55 -0500 (Wed, 05 Nov 2025) EndedAt: 2025-11-05 15:32:05 -0500 (Wed, 05 Nov 2025) EllapsedTime: 9.5 seconds RetCode: 0 Status: OK