Package: KEGGREST Version: 1.51.0 Command: /home/biocbuild/bbs-3.23-bioc/R/bin/R CMD build --keep-empty-dirs --no-resave-data KEGGREST StartedAt: 2025-11-04 18:14:02 -0500 (Tue, 04 Nov 2025) EndedAt: 2025-11-04 18:14:38 -0500 (Tue, 04 Nov 2025) EllapsedTime: 36.0 seconds RetCode: 0 Status: OK PackageFile: KEGGREST_1.51.0.tar.gz PackageFileSize: 233.5 KiB