Package: KEGGREST Version: 1.49.2 Command: /Library/Frameworks/R.framework/Resources/bin/R CMD INSTALL KEGGREST StartedAt: 2025-10-13 15:20:38 -0400 (Mon, 13 Oct 2025) EndedAt: 2025-10-13 15:20:52 -0400 (Mon, 13 Oct 2025) EllapsedTime: 14.1 seconds RetCode: 0 Status: OK