Package: KEGGREST Version: 1.49.2 Command: /Library/Frameworks/R.framework/Resources/bin/R CMD build --keep-empty-dirs --no-resave-data KEGGREST StartedAt: 2025-10-13 17:47:03 -0400 (Mon, 13 Oct 2025) EndedAt: 2025-10-13 17:48:03 -0400 (Mon, 13 Oct 2025) EllapsedTime: 59.6 seconds RetCode: 0 Status: OK PackageFile: KEGGREST_1.49.2.tar.gz PackageFileSize: 233.6 KiB