Package: KEGGREST Version: 1.49.2 Command: rm -rf KEGGREST.buildbin-libdir && mkdir KEGGREST.buildbin-libdir && /Users/biocbuild/BBS/utils/build-universal.sh KEGGREST_1.49.2.tar.gz /Library/Frameworks/R.framework/Resources/bin/R KEGGREST.buildbin-libdir StartedAt: 2025-10-14 02:50:51 -0400 (Tue, 14 Oct 2025) EndedAt: 2025-10-14 02:51:07 -0400 (Tue, 14 Oct 2025) EllapsedTime: 16.2 seconds RetCode: 0 Status: OK PackageFile: KEGGREST_1.49.2.tgz PackageFileSize: 397.3 KiB