Package: KEGGREST Version: 1.49.1 Command: /Library/Frameworks/R.framework/Resources/bin/R CMD build --keep-empty-dirs --no-resave-data KEGGREST StartedAt: 2025-09-30 16:50:09 -0400 (Tue, 30 Sep 2025) EndedAt: 2025-09-30 16:50:34 -0400 (Tue, 30 Sep 2025) EllapsedTime: 24.3 seconds RetCode: 0 Status: OK PackageFile: KEGGREST_1.49.1.tar.gz PackageFileSize: 233.6 KiB