Package: KCsmart Version: 2.69.0 Command: /home/biocbuild/bbs-3.23-bioc/R/bin/R CMD INSTALL KCsmart StartedAt: 2025-11-20 15:12:19 -0500 (Thu, 20 Nov 2025) EndedAt: 2025-11-20 15:12:29 -0500 (Thu, 20 Nov 2025) EllapsedTime: 9.1 seconds RetCode: 0 Status: OK