Package: KCsmart Version: 2.69.0 Command: /Library/Frameworks/R.framework/Resources/bin/R CMD INSTALL KCsmart StartedAt: 2025-11-21 15:19:37 -0500 (Fri, 21 Nov 2025) EndedAt: 2025-11-21 15:19:58 -0500 (Fri, 21 Nov 2025) EllapsedTime: 20.6 seconds RetCode: 0 Status: OK