Package: KCsmart Version: 2.69.0 Command: /Library/Frameworks/R.framework/Resources/bin/R CMD build --keep-empty-dirs --no-resave-data KCsmart StartedAt: 2025-11-21 17:29:17 -0500 (Fri, 21 Nov 2025) EndedAt: 2025-11-21 17:29:49 -0500 (Fri, 21 Nov 2025) EllapsedTime: 32.0 seconds RetCode: 0 Status: OK PackageFile: KCsmart_2.69.0.tar.gz PackageFileSize: 1.815 MiB