Package: KCsmart Version: 2.67.0 Command: /Library/Frameworks/R.framework/Resources/bin/R CMD INSTALL KCsmart StartedAt: 2025-10-23 15:07:09 -0400 (Thu, 23 Oct 2025) EndedAt: 2025-10-23 15:07:14 -0400 (Thu, 23 Oct 2025) EllapsedTime: 4.4 seconds RetCode: 0 Status: OK