Package: KBoost Version: 1.19.0 Command: /home/biocbuild/bbs-3.23-bioc/R/bin/R CMD build --keep-empty-dirs --no-resave-data KBoost StartedAt: 2025-10-31 18:27:58 -0400 (Fri, 31 Oct 2025) EndedAt: 2025-10-31 18:28:05 -0400 (Fri, 31 Oct 2025) EllapsedTime: 7.0 seconds RetCode: 0 Status: OK PackageFile: KBoost_1.19.0.tar.gz PackageFileSize: 503.9 KiB