Package: KBoost Version: 1.17.0 Command: /Library/Frameworks/R.framework/Resources/bin/R CMD INSTALL KBoost StartedAt: 2025-10-10 15:09:56 -0400 (Fri, 10 Oct 2025) EndedAt: 2025-10-10 15:10:09 -0400 (Fri, 10 Oct 2025) EllapsedTime: 13.0 seconds RetCode: 0 Status: OK