Package: KBoost Version: 1.17.0 Command: /Library/Frameworks/R.framework/Resources/bin/R CMD build --keep-empty-dirs --no-resave-data KBoost StartedAt: 2025-10-10 17:43:51 -0400 (Fri, 10 Oct 2025) EndedAt: 2025-10-10 17:44:12 -0400 (Fri, 10 Oct 2025) EllapsedTime: 20.9 seconds RetCode: 0 Status: OK PackageFile: KBoost_1.17.0.tar.gz PackageFileSize: 503.9 KiB