Package: KBoost Version: 1.17.0 Command: rm -rf KBoost.buildbin-libdir && mkdir KBoost.buildbin-libdir && /Users/biocbuild/BBS/utils/build-universal.sh KBoost_1.17.0.tar.gz /Library/Frameworks/R.framework/Resources/bin/R KBoost.buildbin-libdir StartedAt: 2025-10-10 02:41:52 -0400 (Fri, 10 Oct 2025) EndedAt: 2025-10-10 02:41:58 -0400 (Fri, 10 Oct 2025) EllapsedTime: 5.8 seconds RetCode: 0 Status: OK PackageFile: KBoost_1.17.0.tgz PackageFileSize: 574.9 KiB