Package: IsoformSwitchAnalyzeR Version: 2.11.0 Command: /home/biocbuild/bbs-3.23-bioc/R/bin/R CMD check --install=check:IsoformSwitchAnalyzeR.install-out.txt --library=/home/biocbuild/bbs-3.23-bioc/R/site-library --timings IsoformSwitchAnalyzeR_2.11.0.tar.gz StartedAt: 2025-11-06 00:40:58 -0500 (Thu, 06 Nov 2025) EndedAt: 2025-11-06 00:54:02 -0500 (Thu, 06 Nov 2025) EllapsedTime: 784.4 seconds RetCode: 0 Status: OK CheckDir: IsoformSwitchAnalyzeR.Rcheck Warnings: 0