Package: IsoCorrectoRGUI Version: 1.27.0 Command: /home/biocbuild/bbs-3.23-bioc/R/bin/R CMD INSTALL IsoCorrectoRGUI StartedAt: 2025-11-20 15:08:11 -0500 (Thu, 20 Nov 2025) EndedAt: 2025-11-20 15:08:19 -0500 (Thu, 20 Nov 2025) EllapsedTime: 7.2 seconds RetCode: 0 Status: OK