Package: IsoCorrectoRGUI Version: 1.25.0 Command: /Library/Frameworks/R.framework/Resources/bin/R CMD check --install=check:IsoCorrectoRGUI.install-out.txt --library=/Library/Frameworks/R.framework/Resources/library --no-vignettes --timings IsoCorrectoRGUI_1.25.0.tar.gz StartedAt: 2025-10-12 20:02:22 -0400 (Sun, 12 Oct 2025) EndedAt: 2025-10-12 20:02:42 -0400 (Sun, 12 Oct 2025) EllapsedTime: 20.3 seconds RetCode: 0 Status: OK CheckDir: IsoCorrectoRGUI.Rcheck Warnings: 0