Package: IsoCorrectoR Version: 1.27.0 Command: /home/biocbuild/R/R/bin/R CMD INSTALL IsoCorrectoR StartedAt: 2025-10-09 20:59:44 -0000 (Thu, 09 Oct 2025) EndedAt: 2025-10-09 20:59:58 -0000 (Thu, 09 Oct 2025) EllapsedTime: 14.2 seconds RetCode: 0 Status: OK