Package: IsoCorrectoR Version: 1.27.0 Command: /home/biocbuild/R/R/bin/R CMD build --keep-empty-dirs --no-resave-data IsoCorrectoR StartedAt: 2025-10-10 01:33:47 -0000 (Fri, 10 Oct 2025) EndedAt: 2025-10-10 01:34:00 -0000 (Fri, 10 Oct 2025) EllapsedTime: 13.0 seconds RetCode: 0 Status: OK PackageFile: IsoCorrectoR_1.27.0.tar.gz PackageFileSize: 1.687 MiB