Package: IsoCorrectoR Version: 1.29.0 Command: /home/biocbuild/bbs-3.23-bioc/R/bin/R CMD INSTALL IsoCorrectoR StartedAt: 2025-11-07 15:08:54 -0500 (Fri, 07 Nov 2025) EndedAt: 2025-11-07 15:08:58 -0500 (Fri, 07 Nov 2025) EllapsedTime: 4.7 seconds RetCode: 0 Status: OK