Package: IsoCorrectoR Version: 1.29.0 Command: /home/biocbuild/bbs-3.23-bioc/R/bin/R CMD build --keep-empty-dirs --no-resave-data IsoCorrectoR StartedAt: 2025-11-07 18:13:36 -0500 (Fri, 07 Nov 2025) EndedAt: 2025-11-07 18:13:46 -0500 (Fri, 07 Nov 2025) EllapsedTime: 10.0 seconds RetCode: 0 Status: OK PackageFile: IsoCorrectoR_1.29.0.tar.gz PackageFileSize: 1.662 MiB