Package: IsoBayes Version: 1.9.0 Command: /home/biocbuild/bbs-3.23-bioc/R/bin/R CMD build --keep-empty-dirs --no-resave-data IsoBayes StartedAt: 2025-11-20 18:16:45 -0500 (Thu, 20 Nov 2025) EndedAt: 2025-11-20 18:18:37 -0500 (Thu, 20 Nov 2025) EllapsedTime: 112.2 seconds RetCode: 0 Status: OK PackageFile: IsoBayes_1.9.0.tar.gz PackageFileSize: 1.793 MiB