Package: IsoBayes Version: 1.9.0 Command: /Library/Frameworks/R.framework/Resources/bin/R CMD INSTALL IsoBayes StartedAt: 2025-11-21 15:31:03 -0500 (Fri, 21 Nov 2025) EndedAt: 2025-11-21 15:32:01 -0500 (Fri, 21 Nov 2025) EllapsedTime: 58.1 seconds RetCode: 0 Status: OK