Package: IsoBayes Version: 1.9.0 Command: /Library/Frameworks/R.framework/Resources/bin/R CMD build --keep-empty-dirs --no-resave-data IsoBayes StartedAt: 2025-11-20 17:28:57 -0500 (Thu, 20 Nov 2025) EndedAt: 2025-11-20 17:31:07 -0500 (Thu, 20 Nov 2025) EllapsedTime: 129.2 seconds RetCode: 0 Status: OK PackageFile: IsoBayes_1.9.0.tar.gz PackageFileSize: 1.648 MiB