Package: IsoBayes Version: 1.7.1 Command: /Library/Frameworks/R.framework/Resources/bin/R CMD build --keep-empty-dirs --no-resave-data IsoBayes StartedAt: 2025-10-24 16:50:49 -0400 (Fri, 24 Oct 2025) EndedAt: 2025-10-24 16:51:36 -0400 (Fri, 24 Oct 2025) EllapsedTime: 47.6 seconds RetCode: 0 Status: OK PackageFile: IsoBayes_1.7.1.tar.gz PackageFileSize: 1.668 MiB