Package: IsoBayes Version: 1.7.1 Command: rm -rf IsoBayes.buildbin-libdir && mkdir IsoBayes.buildbin-libdir && /Users/biocbuild/BBS/utils/build-universal.sh IsoBayes_1.7.1.tar.gz /Library/Frameworks/R.framework/Resources/bin/R IsoBayes.buildbin-libdir StartedAt: 2025-10-24 23:07:20 -0400 (Fri, 24 Oct 2025) EndedAt: 2025-10-24 23:07:38 -0400 (Fri, 24 Oct 2025) EllapsedTime: 17.4 seconds RetCode: 0 Status: OK PackageFile: IsoBayes_1.7.1.tgz PackageFileSize: 1.77 MiB