Package: IntramiRExploreR Version: 1.33.0 Command: /home/biocbuild/bbs-3.23-bioc/R/bin/R CMD INSTALL IntramiRExploreR StartedAt: 2025-11-02 15:17:33 -0500 (Sun, 02 Nov 2025) EndedAt: 2025-11-02 15:17:53 -0500 (Sun, 02 Nov 2025) EllapsedTime: 19.5 seconds RetCode: 0 Status: OK