Package: IntramiRExploreR Version: 1.33.0 Command: /home/biocbuild/bbs-3.23-bioc/R/bin/R CMD check --install=check:IntramiRExploreR.install-out.txt --library=/home/biocbuild/bbs-3.23-bioc/R/site-library --timings IntramiRExploreR_1.33.0.tar.gz StartedAt: 2025-11-06 00:34:45 -0500 (Thu, 06 Nov 2025) EndedAt: 2025-11-06 00:35:40 -0500 (Thu, 06 Nov 2025) EllapsedTime: 54.1 seconds RetCode: 0 Status: WARNINGS CheckDir: IntramiRExploreR.Rcheck Warnings: 2