Package: IntramiRExploreR Version: 1.33.0 Command: /home/biocbuild/bbs-3.23-bioc/R/bin/R CMD build --keep-empty-dirs --no-resave-data IntramiRExploreR StartedAt: 2025-11-02 18:12:08 -0500 (Sun, 02 Nov 2025) EndedAt: 2025-11-02 18:12:27 -0500 (Sun, 02 Nov 2025) EllapsedTime: 19.0 seconds RetCode: 0 Status: OK PackageFile: IntramiRExploreR_1.33.0.tar.gz PackageFileSize: 8.901 MiB