Package: InteractiveComplexHeatmap Version: 1.19.0 Command: /home/biocbuild/bbs-3.23-bioc/R/bin/R CMD check --install=check:InteractiveComplexHeatmap.install-out.txt --library=/home/biocbuild/bbs-3.23-bioc/R/site-library --timings InteractiveComplexHeatmap_1.19.0.tar.gz StartedAt: 2025-11-21 00:39:21 -0500 (Fri, 21 Nov 2025) EndedAt: 2025-11-21 00:41:59 -0500 (Fri, 21 Nov 2025) EllapsedTime: 158.2 seconds RetCode: 0 Status: OK CheckDir: InteractiveComplexHeatmap.Rcheck Warnings: 0