Package: InteractionSet Version: 1.39.0 Command: /home/biocbuild/bbs-3.23-bioc/R/bin/R CMD INSTALL InteractionSet StartedAt: 2025-11-05 15:29:36 -0500 (Wed, 05 Nov 2025) EndedAt: 2025-11-05 15:30:19 -0500 (Wed, 05 Nov 2025) EllapsedTime: 43.5 seconds RetCode: 0 Status: OK