Package: InteractionSet Version: 1.39.0 Command: /home/biocbuild/bbs-3.23-bioc/R/bin/R CMD check --install=check:InteractionSet.install-out.txt --library=/home/biocbuild/bbs-3.23-bioc/R/site-library --timings InteractionSet_1.39.0.tar.gz StartedAt: 2025-11-06 00:34:03 -0500 (Thu, 06 Nov 2025) EndedAt: 2025-11-06 00:38:43 -0500 (Thu, 06 Nov 2025) EllapsedTime: 279.3 seconds RetCode: 0 Status: OK CheckDir: InteractionSet.Rcheck Warnings: 0