Package: InterCellar Version: 2.15.0 Command: /home/biocbuild/R/R/bin/R CMD INSTALL InterCellar StartedAt: 2025-10-23 20:47:15 -0000 (Thu, 23 Oct 2025) EndedAt: 2025-10-23 20:47:50 -0000 (Thu, 23 Oct 2025) EllapsedTime: 35.5 seconds RetCode: 0 Status: OK