Package: InterCellar Version: 2.15.0 Command: chmod a+r InterCellar -R && F:\biocbuild\bbs-3.22-bioc\R\bin\R.exe CMD build --keep-empty-dirs --no-resave-data InterCellar StartedAt: 2025-08-14 20:58:04 -0400 (Thu, 14 Aug 2025) EndedAt: 2025-08-14 20:59:08 -0400 (Thu, 14 Aug 2025) EllapsedTime: 64.2 seconds RetCode: 0 Status: OK PackageFile: InterCellar_2.15.0.tar.gz PackageFileSize: 4.016 MiB