Package: InterCellar Version: 2.17.0 Command: /home/biocbuild/bbs-3.23-bioc/R/bin/R CMD INSTALL InterCellar StartedAt: 2025-11-20 15:26:07 -0500 (Thu, 20 Nov 2025) EndedAt: 2025-11-20 15:26:33 -0500 (Thu, 20 Nov 2025) EllapsedTime: 26.5 seconds RetCode: 0 Status: OK