Package: InterCellar Version: 2.17.0 Command: /home/biocbuild/bbs-3.23-bioc/R/bin/R CMD check --install=check:InterCellar.install-out.txt --library=/home/biocbuild/bbs-3.23-bioc/R/site-library --timings InterCellar_2.17.0.tar.gz StartedAt: 2025-11-21 00:39:30 -0500 (Fri, 21 Nov 2025) EndedAt: 2025-11-21 00:42:49 -0500 (Fri, 21 Nov 2025) EllapsedTime: 199.3 seconds RetCode: 0 Status: OK CheckDir: InterCellar.Rcheck Warnings: 0