Package: InterCellar Version: 2.17.0 Command: /home/biocbuild/bbs-3.23-bioc/R/bin/R CMD build --keep-empty-dirs --no-resave-data InterCellar StartedAt: 2025-11-20 18:14:11 -0500 (Thu, 20 Nov 2025) EndedAt: 2025-11-20 18:14:49 -0500 (Thu, 20 Nov 2025) EllapsedTime: 38.0 seconds RetCode: 0 Status: OK PackageFile: InterCellar_2.17.0.tar.gz PackageFileSize: 4.016 MiB