Package: IntEREst Version: 1.35.0 Command: /home/biocbuild/bbs-3.23-bioc/R/bin/R CMD INSTALL IntEREst StartedAt: 2025-11-02 16:00:42 -0500 (Sun, 02 Nov 2025) EndedAt: 2025-11-02 16:01:33 -0500 (Sun, 02 Nov 2025) EllapsedTime: 51.8 seconds RetCode: 0 Status: OK