Package: IntEREst Version: 1.33.0 Command: /Library/Frameworks/R.framework/Resources/bin/R CMD build --keep-empty-dirs --no-resave-data IntEREst StartedAt: 2025-10-12 17:37:04 -0400 (Sun, 12 Oct 2025) EndedAt: 2025-10-12 17:39:46 -0400 (Sun, 12 Oct 2025) EllapsedTime: 161.8 seconds RetCode: 0 Status: OK PackageFile: IntEREst_1.33.0.tar.gz PackageFileSize: 1.437 MiB