Package: IntEREst Version: 1.33.0 Command: rm -rf IntEREst.buildbin-libdir && mkdir IntEREst.buildbin-libdir && /Users/biocbuild/BBS/utils/build-universal.sh IntEREst_1.33.0.tar.gz /Library/Frameworks/R.framework/Resources/bin/R IntEREst.buildbin-libdir StartedAt: 2025-10-13 02:38:34 -0400 (Mon, 13 Oct 2025) EndedAt: 2025-10-13 02:39:52 -0400 (Mon, 13 Oct 2025) EllapsedTime: 78.2 seconds RetCode: 0 Status: OK PackageFile: IntEREst_1.33.0.tgz PackageFileSize: 1.9 MiB