Package: Informeasure Version: 1.21.0 Command: /home/biocbuild/bbs-3.23-bioc/R/bin/R CMD build --keep-empty-dirs --no-resave-data Informeasure StartedAt: 2025-11-20 18:12:41 -0500 (Thu, 20 Nov 2025) EndedAt: 2025-11-20 18:12:53 -0500 (Thu, 20 Nov 2025) EllapsedTime: 12.0 seconds RetCode: 0 Status: OK PackageFile: Informeasure_1.21.0.tar.gz PackageFileSize: 276.5 KiB