Package: Informeasure Version: 1.19.0 Command: rm -rf Informeasure.buildbin-libdir && mkdir Informeasure.buildbin-libdir && /Users/biocbuild/BBS/utils/build-universal.sh Informeasure_1.19.0.tar.gz /Library/Frameworks/R.framework/Resources/bin/R Informeasure.buildbin-libdir StartedAt: 2025-10-25 01:45:45 -0400 (Sat, 25 Oct 2025) EndedAt: 2025-10-25 01:45:52 -0400 (Sat, 25 Oct 2025) EllapsedTime: 7.1 seconds RetCode: 0 Status: OK PackageFile: Informeasure_1.19.0.tgz PackageFileSize: 328.8 KiB